BEGIN:VCALENDAR
VERSION:2.0
PRODID:-//wp-events-plugin.com//7.2.3.1//EN
TZID:America/New_York
X-WR-TIMEZONE:America/New_York
BEGIN:VEVENT
UID:5382@goriverwalk.com
DTSTART;TZID=America/New_York:20180922T080000
DTEND;TZID=America/New_York:20180922T110000
DTSTAMP:20180726T203910Z
URL:https://www.goriverwalk.com/greater-fort-lauderdale-events/zero-prosta
 te-cancer-run-walk
SUMMARY:ZERO Prostate Cancer Run/Walk
DESCRIPTION:Joining 40+ other walks/runs across the country
ATTACH;FMTTYPE=image/jpeg:https://www.goriverwalk.com/wp-content/uploads/2
 018/07/zero-runwalk16-logo.jpg
CATEGORIES:Fundraiser
LOCATION:Markham Park \, 16001 W State Rd 84\, Sunrise\, Fl\, 33326\, Unite
 d States
GEO:26.129641;-80.354576
X-APPLE-STRUCTURED-LOCATION;VALUE=URI;X-ADDRESS=16001 W State Rd 84\, Sunri
 se\, Fl\, 33326\, United States;X-APPLE-RADIUS=100;X-TITLE=Markham Park :g
 eo:26.129641,-80.354576
END:VEVENT
BEGIN:VTIMEZONE
TZID:America/New_York
X-LIC-LOCATION:America/New_York
BEGIN:DAYLIGHT
DTSTART:20180311T030000
TZOFFSETFROM:-0500
TZOFFSETTO:-0400
TZNAME:EDT
END:DAYLIGHT
END:VTIMEZONE
END:VCALENDAR