BEGIN:VCALENDAR
VERSION:2.0
PRODID:-//wp-events-plugin.com//7.2.3.1//EN
TZID:America/New_York
X-WR-TIMEZONE:America/New_York
BEGIN:VEVENT
UID:22397@goriverwalk.com
DTSTART;TZID=America/New_York:20260228T090000
DTEND;TZID=America/New_York:20260228T170000
DTSTAMP:20260211T205009Z
URL:https://www.goriverwalk.com/greater-fort-lauderdale-events/yogafest-02
 -28-26
SUMMARY:YogaFest 02.28.26
DESCRIPTION:Join us for our 16th YogaFest - a celebration of yoga\, meditat
 ion\, music\, and cOMmUNITY.\n\nAll of our proceeds benefit the Be the Cha
 nge Project - creating future leaders.\n\nWhen:  Saturday 2.28.2026\nWher
 e:  Esplanade Park 400 SW 2nd St Ft. Lauderdale\, FL 33312\nWho:   Sout
 h Florida peeps looking for fun and community -\nClasses\, Shopping\, Well
 ness\, Food - RAFFLE prizes!\n\nThis event is FREE to attend\, donations a
 ppreciated\, and raffles available for purchase!\n\nSchedule:\nDoors Open 
 9:00 am\n\nOpening with Gong meditation at 9:30 am\n\nFREE Workshop Classe
 s at 10:00 am (4 choices)\n\nFREE Workshop Classes at 11:30 am (4 choices)
 \n\nFREE Yoga with Live Music by Sponsor Colony Yoga at 1:00 pm including\
 nHost Kelly Brookbank and Co-Director Pedro Luna\n\nFREE Workshop Classes 
 at 2:30 pm (4 choices)\n\nFREE Gentle Flow into Sound Bath at 4:00 pm with
  Be the Change Young Leaders\n\nJoin us!!!\n\nThe Event is FREE!\nThis eve
 nt is a FUNDRAISER!\nPlease purchase raffle tickets and VIP Tickets (With 
 Swag) to help us BE THE CHANGE\n\nPURCHASE YOUR VIP Ticket for $108\nhttps
 ://www.yogafestfl.com/product/yfvip/\n\nWe WILL raffle a trip for 2 to COS
 TA RICA for a 7 day Yoga Retreat at Pura Vida Spa Buy tickets!\nGet a raff
 le ticket for $25\nhttps://www.yogafestfl.com/product/donationentry/
ATTACH;FMTTYPE=image/jpeg:https://www.goriverwalk.com/wp-content/uploads/2
 026/02/yogafest-image-1.png
CATEGORIES:Free,Fundraiser,Health
LOCATION:Esplanade Park\, 400 SW 2nd Street\, Fort Lauderdale\, Florida\, 3
 3312\, United States
GEO:26.120046;-80.14795199999998
X-APPLE-STRUCTURED-LOCATION;VALUE=URI;X-ADDRESS=400 SW 2nd Street\, Fort La
 uderdale\, Florida\, 33312\, United States;X-APPLE-RADIUS=100;X-TITLE=Espl
 anade Park:geo:26.120046,-80.14795199999998
END:VEVENT
BEGIN:VTIMEZONE
TZID:America/New_York
X-LIC-LOCATION:America/New_York
BEGIN:STANDARD
DTSTART:20251102T010000
TZOFFSETFROM:-0400
TZOFFSETTO:-0500
TZNAME:EST
END:STANDARD
END:VTIMEZONE
END:VCALENDAR