BEGIN:VCALENDAR
VERSION:2.0
PRODID:-//wp-events-plugin.com//7.2.3.1//EN
TZID:America/New_York
X-WR-TIMEZONE:America/New_York
BEGIN:VEVENT
UID:14783@goriverwalk.com
DTSTART;TZID=America/New_York:20221111T090000
DTEND;TZID=America/New_York:20221111T103000
DTSTAMP:20220830T160315Z
URL:https://www.goriverwalk.com/greater-fort-lauderdale-events/ymca-of-sou
 th-floridas-veterans-day-breakfast
SUMMARY:YMCA of South Florida's Veterans Day Breakfast
DESCRIPTION:Featuring U.S. Navy SEAL Lt. Commander Dan Cnossen
ATTACH;FMTTYPE=image/jpeg:https://www.goriverwalk.com/wp-content/uploads/2
 022/08/Daniel-Cnossen-YMCA.jpg
CATEGORIES:Fundraiser
LOCATION:Bonaventure Town Center     Ballroom\, 16690 Saddle Club Road \, W
 eston\, Florida\, 33326\, United States
X-APPLE-STRUCTURED-LOCATION;VALUE=URI;X-ADDRESS=16690 Saddle Club Road \, W
 eston\, Florida\, 33326\, United States;X-APPLE-RADIUS=100;X-TITLE=Bonaven
 ture Town Center     Ballroom:geo:0,0
END:VEVENT
BEGIN:VTIMEZONE
TZID:America/New_York
X-LIC-LOCATION:America/New_York
BEGIN:STANDARD
DTSTART:20221106T010000
TZOFFSETFROM:-0400
TZOFFSETTO:-0500
TZNAME:EST
END:STANDARD
END:VTIMEZONE
END:VCALENDAR