BEGIN:VCALENDAR
VERSION:2.0
PRODID:-//wp-events-plugin.com//7.2.3.1//EN
TZID:America/New_York
X-WR-TIMEZONE:America/New_York
BEGIN:VEVENT
UID:18845@goriverwalk.com
DTSTART;TZID=America/New_York:20240325T080000
DTEND;TZID=America/New_York:20240329T200000
DTSTAMP:20240318T183915Z
URL:https://www.goriverwalk.com/greater-fort-lauderdale-events/ymca-of-sou
 th-floridas-swim-for-jenny-week
SUMMARY:YMCA of South Florida’s “Swim for Jenny” Week
DESCRIPTION:Fostering a culture of aquatic safety
ATTACH;FMTTYPE=image/jpeg:https://www.goriverwalk.com/wp-content/uploads/2
 024/03/SFJ-04-Courtesy-YMCA-of-South-FL.jpg
CATEGORIES:Children,Health
LOCATION:L.A. Lee YMCA/Mizell Community Center\, 1409 Northwest 6th Street\
 , Fort Lauderdale\, FL\, 33311\, United States
X-APPLE-STRUCTURED-LOCATION;VALUE=URI;X-ADDRESS=1409 Northwest 6th Street\,
  Fort Lauderdale\, FL\, 33311\, United States;X-APPLE-RADIUS=100;X-TITLE=L
 .A. Lee YMCA/Mizell Community Center:geo:0,0
END:VEVENT
BEGIN:VTIMEZONE
TZID:America/New_York
X-LIC-LOCATION:America/New_York
BEGIN:DAYLIGHT
DTSTART:20240310T030000
TZOFFSETFROM:-0500
TZOFFSETTO:-0400
TZNAME:EDT
END:DAYLIGHT
END:VTIMEZONE
END:VCALENDAR