BEGIN:VCALENDAR
VERSION:2.0
PRODID:-//wp-events-plugin.com//7.2.3.1//EN
TZID:America/New_York
X-WR-TIMEZONE:America/New_York
BEGIN:VEVENT
UID:22607@goriverwalk.com
DTSTART;TZID=America/New_York:20260316T080000
DTEND;TZID=America/New_York:20260320T200000
DTSTAMP:20260310T164945Z
URL:https://www.goriverwalk.com/greater-fort-lauderdale-events/ymca-of-sou
 th-floridas-swim-for-jenny-week-2026
SUMMARY:YMCA of South Florida’s “Swim for Jenny” Week 2026
DESCRIPTION:“Swim for Jenny” Week\, an annual week-long program that of
 fers free swim lessons for anyone older than six months of age\, will be h
 eld March 16-20 at five YMCA of South Florida locations:  Fort Lauderdale
  (L.A. Lee YMCA/Mizell Community Center)\, Hallandale Beach\, Hollywood\, 
 Weston and Pembroke Pines. Times vary by location.\n\nSince its inception 
 in 2013\, “Swim for Jenny” has benefited more than 25\,000 people with
  more than 100\,000 swim lessons provided by the Y.\n\nTo register\, visit
  ymcasouthflorida.org/swim-for-jenny or call 954-334-9622.
ATTACH;FMTTYPE=image/jpeg:https://www.goriverwalk.com/wp-content/uploads/2
 026/03/SFJ-02-Courtesy-YMCA-of-South-FL-sml.jpg
CATEGORIES:Community,Education,Free
LOCATION:L.A. Lee YMCA/Mizell Community Center\, 1409 NW Sistrunk Boulevard
 \, Fort Lauderdale\, FL\, 33311\, United States
X-APPLE-STRUCTURED-LOCATION;VALUE=URI;X-ADDRESS=1409 NW Sistrunk Boulevard\
 , Fort Lauderdale\, FL\, 33311\, United States;X-APPLE-RADIUS=100;X-TITLE=
 L.A. Lee YMCA/Mizell Community Center:geo:0,0
END:VEVENT
BEGIN:VTIMEZONE
TZID:America/New_York
X-LIC-LOCATION:America/New_York
BEGIN:DAYLIGHT
DTSTART:20260308T030000
TZOFFSETFROM:-0500
TZOFFSETTO:-0400
TZNAME:EDT
END:DAYLIGHT
END:VTIMEZONE
END:VCALENDAR