BEGIN:VCALENDAR
VERSION:2.0
PRODID:-//wp-events-plugin.com//7.2.3.1//EN
TZID:America/New_York
X-WR-TIMEZONE:America/New_York
BEGIN:VEVENT
UID:7264@goriverwalk.com
DTSTART;TZID=America/New_York:20190430T120000
DTEND;TZID=America/New_York:20190502T160000
DTSTAMP:20190419T131727Z
URL:https://www.goriverwalk.com/greater-fort-lauderdale-events/xtreme-acti
 on-park-job-fair
SUMMARY:Xtreme Action Park Job Fair
DESCRIPTION:Season\, part-time and full-time positions available
ATTACH;FMTTYPE=image/jpeg:https://www.goriverwalk.com/wp-content/uploads/2
 017/11/Default-calendar.jpg
CATEGORIES:Business,Community
LOCATION:Xtreme Action Park\, 5300 Powerline Road\, Fort Lauderdale\, FL\, 
 33309\, United States
GEO:26.192287;-80.153496
X-APPLE-STRUCTURED-LOCATION;VALUE=URI;X-ADDRESS=5300 Powerline Road\, Fort 
 Lauderdale\, FL\, 33309\, United States;X-APPLE-RADIUS=100;X-TITLE=Xtreme 
 Action Park:geo:26.192287,-80.153496
END:VEVENT
BEGIN:VTIMEZONE
TZID:America/New_York
X-LIC-LOCATION:America/New_York
BEGIN:DAYLIGHT
DTSTART:20190310T030000
TZOFFSETFROM:-0500
TZOFFSETTO:-0400
TZNAME:EDT
END:DAYLIGHT
END:VTIMEZONE
END:VCALENDAR