BEGIN:VCALENDAR
VERSION:2.0
PRODID:-//wp-events-plugin.com//7.2.3.1//EN
TZID:America/New_York
X-WR-TIMEZONE:America/New_York
BEGIN:VEVENT
UID:16555@goriverwalk.com
DTSTART;TZID=America/New_York:20230308T100000
DTEND;TZID=America/New_York:20230312T180000
DTSTAMP:20230307T143650Z
URL:https://www.goriverwalk.com/greater-fort-lauderdale-events/world-renow
 ned-budweiser-clydesdales-to-visit-fort-lauderdale
SUMMARY:WORLD RENOWNED BUDWEISER CLYDESDALES
DESCRIPTION:At various locations around town
ATTACH;FMTTYPE=image/jpeg:https://www.goriverwalk.com/wp-content/uploads/2
 023/03/CLYDESDALES-1.jpg
CATEGORIES:Festival,Holiday
END:VEVENT
BEGIN:VTIMEZONE
TZID:America/New_York
X-LIC-LOCATION:America/New_York
BEGIN:STANDARD
DTSTART:20221106T010000
TZOFFSETFROM:-0400
TZOFFSETTO:-0500
TZNAME:EST
END:STANDARD
BEGIN:DAYLIGHT
DTSTART:20230312T030000
TZOFFSETFROM:-0500
TZOFFSETTO:-0400
TZNAME:EDT
END:DAYLIGHT
END:VTIMEZONE
END:VCALENDAR