BEGIN:VCALENDAR
VERSION:2.0
PRODID:-//wp-events-plugin.com//7.2.3.1//EN
TZID:America/New_York
X-WR-TIMEZONE:America/New_York
BEGIN:VEVENT
UID:15649@goriverwalk.com
DTSTART;TZID=America/New_York:20221201T083000
DTEND;TZID=America/New_York:20221201T100000
DTSTAMP:20221128T184217Z
URL:https://www.goriverwalk.com/greater-fort-lauderdale-events/world-aids-
 day-rock-the-ribbon-ceremony
SUMMARY:WORLD AIDS DAY - ROCK THE RIBBON CEREMONY
DESCRIPTION:A day of remembrance and awareness 
ATTACH;FMTTYPE=image/jpeg:https://www.goriverwalk.com/wp-content/uploads/2
 022/11/ROCK-THE-RIBBON.jpg
CATEGORIES:Community,Education,Fundraiser,Health,Networking
LOCATION:The Galleria at Fort Lauderdale\, 2414 East Sunrise Blvd\, Fort La
 uderdale\, FL\, 33304\, FL\, United States
GEO:26.137129;-80.11343099999999
X-APPLE-STRUCTURED-LOCATION;VALUE=URI;X-ADDRESS=2414 East Sunrise Blvd\, Fo
 rt Lauderdale\, FL\, 33304\, FL\, United States;X-APPLE-RADIUS=100;X-TITLE
 =The Galleria at Fort Lauderdale:geo:26.137129,-80.11343099999999
END:VEVENT
BEGIN:VTIMEZONE
TZID:America/New_York
X-LIC-LOCATION:America/New_York
BEGIN:STANDARD
DTSTART:20221106T010000
TZOFFSETFROM:-0400
TZOFFSETTO:-0500
TZNAME:EST
END:STANDARD
END:VTIMEZONE
END:VCALENDAR