BEGIN:VCALENDAR
VERSION:2.0
PRODID:-//wp-events-plugin.com//7.2.3.1//EN
TZID:America/New_York
X-WR-TIMEZONE:America/New_York
BEGIN:VEVENT
UID:14754@goriverwalk.com
DTSTART;TZID=America/New_York:20220820T120000
DTEND;TZID=America/New_York:20220820T160000
DTSTAMP:20220817T182433Z
URL:https://www.goriverwalk.com/greater-fort-lauderdale-events/woodstock-m
 usic-art-fair-market
SUMMARY:Woodstock Music & Art Fair Market
DESCRIPTION:Woodstock-themed outdoor market!
ATTACH;FMTTYPE=image/jpeg:https://www.goriverwalk.com/wp-content/uploads/2
 022/08/Woodstock-market.jpg
CATEGORIES:Art,Business,Food,Music
LOCATION:Society Las Olas\, 301 SW 1st Avenue\, Fort Lauderdale\, FL\, 3330
 1\, United States
X-APPLE-STRUCTURED-LOCATION;VALUE=URI;X-ADDRESS=301 SW 1st Avenue\, Fort La
 uderdale\, FL\, 33301\, United States;X-APPLE-RADIUS=100;X-TITLE=Society L
 as Olas:geo:0,0
END:VEVENT
BEGIN:VTIMEZONE
TZID:America/New_York
X-LIC-LOCATION:America/New_York
BEGIN:DAYLIGHT
DTSTART:20220313T030000
TZOFFSETFROM:-0500
TZOFFSETTO:-0400
TZNAME:EDT
END:DAYLIGHT
END:VTIMEZONE
END:VCALENDAR