BEGIN:VCALENDAR
VERSION:2.0
PRODID:-//wp-events-plugin.com//7.2.3.1//EN
TZID:America/New_York
X-WR-TIMEZONE:America/New_York
BEGIN:VEVENT
UID:4825@goriverwalk.com
DTSTART;TZID=America/New_York:20180605T160000
DTEND;TZID=America/New_York:20180605T200000
DTSTAMP:20180508T195800Z
URL:https://www.goriverwalk.com/greater-fort-lauderdale-events/womens-golf
 -day
SUMMARY:Women's Golf Day
DESCRIPTION:Benefiting the PGA Foundation
ATTACH;FMTTYPE=image/jpeg:https://www.goriverwalk.com/wp-content/uploads/2
 018/05/Facebook-Cover.jpg
CATEGORIES:Sports
LOCATION:Fort Lauderdale Country Club\, 415 E Country Club Circle\, Fort La
 uderdale\, Florida\, 33317\, United States
GEO:26.115061;-80.207878
X-APPLE-STRUCTURED-LOCATION;VALUE=URI;X-ADDRESS=415 E Country Club Circle\,
  Fort Lauderdale\, Florida\, 33317\, United States;X-APPLE-RADIUS=100;X-TI
 TLE=Fort Lauderdale Country Club:geo:26.115061,-80.207878
END:VEVENT
BEGIN:VTIMEZONE
TZID:America/New_York
X-LIC-LOCATION:America/New_York
BEGIN:DAYLIGHT
DTSTART:20180311T030000
TZOFFSETFROM:-0500
TZOFFSETTO:-0400
TZNAME:EDT
END:DAYLIGHT
END:VTIMEZONE
END:VCALENDAR