BEGIN:VCALENDAR
VERSION:2.0
PRODID:-//wp-events-plugin.com//7.2.3.1//EN
TZID:America/New_York
X-WR-TIMEZONE:America/New_York
BEGIN:VEVENT
UID:6025@goriverwalk.com
DTSTART;TZID=America/New_York:20181117T000000
DTEND;TZID=America/New_York:20181117T170000
DTSTAMP:20181016T210425Z
URL:https://www.goriverwalk.com/greater-fort-lauderdale-events/women-cross
 ing-the-line-a-performance-festival
SUMMARY:Women Crossing the Line/ A Performance Festival
DESCRIPTION:Celebrating women creators
ATTACH;FMTTYPE=image/jpeg:https://www.goriverwalk.com/wp-content/uploads/2
 018/10/Smallest-Festival-Front.jpg
CATEGORIES:Festival
LOCATION:Broward Main Library Auditorium\, 100 S. Andrews Ave.\, Fort Laude
 rdale\, FL\, 33301\, United States
GEO:26.1209431;-80.14294559999996
X-APPLE-STRUCTURED-LOCATION;VALUE=URI;X-ADDRESS=100 S. Andrews Ave.\, Fort 
 Lauderdale\, FL\, 33301\, United States;X-APPLE-RADIUS=100;X-TITLE=Broward
  Main Library Auditorium:geo:26.1209431,-80.14294559999996
END:VEVENT
BEGIN:VTIMEZONE
TZID:America/New_York
X-LIC-LOCATION:America/New_York
BEGIN:STANDARD
DTSTART:20181104T010000
TZOFFSETFROM:-0400
TZOFFSETTO:-0500
TZNAME:EST
END:STANDARD
END:VTIMEZONE
END:VCALENDAR