BEGIN:VCALENDAR
VERSION:2.0
PRODID:-//wp-events-plugin.com//7.2.3.1//EN
TZID:America/New_York
X-WR-TIMEZONE:America/New_York
BEGIN:VEVENT
UID:8349@goriverwalk.com
DTSTART;TZID=America/New_York:20191214T180000
DTEND;TZID=America/New_York:20191214T220000
DTSTAMP:20191003T190738Z
URL:https://www.goriverwalk.com/greater-fort-lauderdale-events/winterfest-
 boat-parade-viewing-party-2
SUMMARY:Winterfest Boat Parade Viewing Party
DESCRIPTION:Four course meal and open bar
ATTACH;FMTTYPE=image/jpeg:https://www.goriverwalk.com/wp-content/uploads/2
 019/10/CH-boat-parade.jpg
CATEGORIES:Cocktail,Food,Fundraiser
LOCATION:The Grateful Palate\, 3003 NE 32nd Avenue\, Fort Lauderdale\, FL\,
  United States
GEO:26.1655472;-80.1036408
X-APPLE-STRUCTURED-LOCATION;VALUE=URI;X-ADDRESS=3003 NE 32nd Avenue\, Fort 
 Lauderdale\, FL\, United States;X-APPLE-RADIUS=100;X-TITLE=The Grateful Pa
 late:geo:26.1655472,-80.1036408
END:VEVENT
BEGIN:VTIMEZONE
TZID:America/New_York
X-LIC-LOCATION:America/New_York
BEGIN:STANDARD
DTSTART:20191103T010000
TZOFFSETFROM:-0400
TZOFFSETTO:-0500
TZNAME:EST
END:STANDARD
END:VTIMEZONE
END:VCALENDAR