BEGIN:VCALENDAR
VERSION:2.0
PRODID:-//wp-events-plugin.com//7.2.3.1//EN
TZID:America/New_York
X-WR-TIMEZONE:America/New_York
BEGIN:VEVENT
UID:18216@goriverwalk.com
DTSTART;TZID=America/New_York:20231202T000000
DTEND;TZID=America/New_York:20231231T235900
DTSTAMP:20231130T174849Z
URL:https://www.goriverwalk.com/greater-fort-lauderdale-events/winter-wond
 erlab-science-weekends-2
SUMMARY:Winter Wonderlab Science Weekends
DESCRIPTION:Snow\, sleet and ice take over MODS!
ATTACH;FMTTYPE=image/jpeg:https://www.goriverwalk.com/wp-content/uploads/2
 023/11/rsz_instagram_post_-_winter_wonderlab.png
CATEGORIES:Children,Community,Education,Holiday,Science
LOCATION:Museum of Discovery and Science\, 401 SW 2nd Street\, Fort Lauderd
 ale\, FL\, 33312\, United States
GEO:26.120718;-80.14800500000001
X-APPLE-STRUCTURED-LOCATION;VALUE=URI;X-ADDRESS=401 SW 2nd Street\, Fort La
 uderdale\, FL\, 33312\, United States;X-APPLE-RADIUS=100;X-TITLE=Museum of
  Discovery and Science:geo:26.120718,-80.14800500000001
END:VEVENT
BEGIN:VTIMEZONE
TZID:America/New_York
X-LIC-LOCATION:America/New_York
BEGIN:STANDARD
DTSTART:20231105T010000
TZOFFSETFROM:-0400
TZOFFSETTO:-0500
TZNAME:EST
END:STANDARD
END:VTIMEZONE
END:VCALENDAR