BEGIN:VCALENDAR
VERSION:2.0
PRODID:-//wp-events-plugin.com//7.2.3.1//EN
TZID:America/New_York
X-WR-TIMEZONE:America/New_York
BEGIN:VEVENT
UID:3658@goriverwalk.com
DTSTART;TZID=America/New_York:20180506T070000
DTEND;TZID=America/New_York:20180506T130000
DTSTAMP:20171012T164013Z
URL:https://www.goriverwalk.com/greater-fort-lauderdale-events/wings-for-l
 ife-world-run-2018
SUMMARY:Wings for Life World Run 2018
DESCRIPTION:Be part of a global running event to find a cure for spinal cor
 d injury.
ATTACH;FMTTYPE=image/jpeg:https://www.goriverwalk.com/wp-content/uploads/2
 015/12/Default-calendar.jpg
CATEGORIES:Community,Fundraiser,Health
LOCATION:BB&T Center \, 1 Panther Parkway \, Sunrise\, FL\, 33323\, United 
 States
GEO:26.158468;-80.325554
X-APPLE-STRUCTURED-LOCATION;VALUE=URI;X-ADDRESS=1 Panther Parkway \, Sunris
 e\, FL\, 33323\, United States;X-APPLE-RADIUS=100;X-TITLE=BB&T Center :geo
 :26.158468,-80.325554
END:VEVENT
BEGIN:VTIMEZONE
TZID:America/New_York
X-LIC-LOCATION:America/New_York
BEGIN:DAYLIGHT
DTSTART:20180311T030000
TZOFFSETFROM:-0500
TZOFFSETTO:-0400
TZNAME:EDT
END:DAYLIGHT
END:VTIMEZONE
END:VCALENDAR