BEGIN:VCALENDAR
VERSION:2.0
PRODID:-//wp-events-plugin.com//7.2.3.1//EN
TZID:America/New_York
X-WR-TIMEZONE:America/New_York
BEGIN:VEVENT
UID:18048@goriverwalk.com
DTSTART;TZID=America/New_York:20231216T100000
DTEND;TZID=America/New_York:20231216T120000
DTSTAMP:20231109T011757Z
URL:https://www.goriverwalk.com/greater-fort-lauderdale-events/wilton-wond
 erland-2
SUMMARY:Wilton Wonderland
DESCRIPTION:Sponsored by Joe DiMaggio Children’s Hospital.
ATTACH;FMTTYPE=image/jpeg:https://www.goriverwalk.com/wp-content/uploads/2
 023/10/Wilton-Wonderland.jpg
CATEGORIES:Children,Community,Holiday
LOCATION:Hagan Park\, 2020 Wilton Dr\, Wilton Manor\, Florida\, 33305\, Uni
 ted States
X-APPLE-STRUCTURED-LOCATION;VALUE=URI;X-ADDRESS=2020 Wilton Dr\, Wilton Man
 or\, Florida\, 33305\, United States;X-APPLE-RADIUS=100;X-TITLE=Hagan Park
 :geo:0,0
END:VEVENT
BEGIN:VTIMEZONE
TZID:America/New_York
X-LIC-LOCATION:America/New_York
BEGIN:STANDARD
DTSTART:20231105T010000
TZOFFSETFROM:-0400
TZOFFSETTO:-0500
TZNAME:EST
END:STANDARD
END:VTIMEZONE
END:VCALENDAR