BEGIN:VCALENDAR
VERSION:2.0
PRODID:-//wp-events-plugin.com//7.2.3.1//EN
TZID:America/New_York
X-WR-TIMEZONE:America/New_York
BEGIN:VEVENT
UID:3877@goriverwalk.com
DTSTART;TZID=America/New_York:20180124T190000
DTEND;TZID=America/New_York:20180124T210000
DTSTAMP:20171227T160636Z
URL:https://www.goriverwalk.com/greater-fort-lauderdale-events/wilton-mano
 rs-annual-classical-concert
SUMMARY:Wilton Manors' Annual Classical Concert
DESCRIPTION:The evening will feature the talents of cellist Evan Drachman a
 nd pianist Victor Santiago Asuncion.
ATTACH;FMTTYPE=image/jpeg:https://www.goriverwalk.com/wp-content/uploads/2
 017/12/Webp.net-resizeimage-19.jpg
CATEGORIES:Community,Music
LOCATION:Hagen Park\, 2020 Wilton Dr\, Wilton Manors\, Florida\, 33305\, Un
 ited States
GEO:26.153746;-80.139893
X-APPLE-STRUCTURED-LOCATION;VALUE=URI;X-ADDRESS=2020 Wilton Dr\, Wilton Man
 ors\, Florida\, 33305\, United States;X-APPLE-RADIUS=100;X-TITLE=Hagen Par
 k:geo:26.153746,-80.139893
END:VEVENT
BEGIN:VTIMEZONE
TZID:America/New_York
X-LIC-LOCATION:America/New_York
BEGIN:STANDARD
DTSTART:20171105T010000
TZOFFSETFROM:-0400
TZOFFSETTO:-0500
TZNAME:EST
END:STANDARD
END:VTIMEZONE
END:VCALENDAR