BEGIN:VCALENDAR
VERSION:2.0
PRODID:-//wp-events-plugin.com//7.2.3.1//EN
TZID:America/New_York
X-WR-TIMEZONE:America/New_York
BEGIN:VEVENT
UID:18571@goriverwalk.com
DTSTART;TZID=America/New_York:20240203T120000
DTEND;TZID=America/New_York:20241207T130000
DTSTAMP:20240430T175032Z
URL:https://www.goriverwalk.com/greater-fort-lauderdale-events/wild-talk-a
 t-the-park
SUMMARY:Wild Talk at the Park
DESCRIPTION:Connect with the incredible creatures that inhabit our planet
ATTACH;FMTTYPE=image/jpeg:https://www.goriverwalk.com/wp-content/uploads/2
 024/01/Wild-Talks.png
CATEGORIES:Children,Education,Nature,Science
LOCATION:Snyder Park\, 3299 SW 4th Ave\, Fort Lauderdale\, FL\, 33315\, Uni
 ted States
GEO:26.082714;-80.14818500000001
X-APPLE-STRUCTURED-LOCATION;VALUE=URI;X-ADDRESS=3299 SW 4th Ave\, Fort Laud
 erdale\, FL\, 33315\, United States;X-APPLE-RADIUS=100;X-TITLE=Snyder Park
 :geo:26.082714,-80.14818500000001
END:VEVENT
BEGIN:VTIMEZONE
TZID:America/New_York
X-LIC-LOCATION:America/New_York
BEGIN:STANDARD
DTSTART:20231105T010000
TZOFFSETFROM:-0400
TZOFFSETTO:-0500
TZNAME:EST
END:STANDARD
BEGIN:DAYLIGHT
DTSTART:20240310T030000
TZOFFSETFROM:-0500
TZOFFSETTO:-0400
TZNAME:EDT
END:DAYLIGHT
BEGIN:STANDARD
DTSTART:20241103T010000
TZOFFSETFROM:-0400
TZOFFSETTO:-0500
TZNAME:EST
END:STANDARD
END:VTIMEZONE
END:VCALENDAR