BEGIN:VCALENDAR
VERSION:2.0
PRODID:-//wp-events-plugin.com//7.2.3.1//EN
TZID:America/New_York
X-WR-TIMEZONE:America/New_York
BEGIN:VEVENT
UID:20337@goriverwalk.com
DTSTART;TZID=America/New_York:20250411T113000
DTEND;TZID=America/New_York:20250411T133000
DTSTAMP:20250311T212529Z
URL:https://www.goriverwalk.com/greater-fort-lauderdale-events/what-is-the
 -4-11-fun-lunch
SUMMARY:“What is the 4-11?” Fun Lunch
DESCRIPTION:Honoring seven outstanding community leaders
ATTACH;FMTTYPE=image/jpeg:https://www.goriverwalk.com/wp-content/uploads/2
 025/01/24-25-Fun-Lunch-Save-the-Date-sq-1-2.jpg
CATEGORIES:Business,Community,Fundraiser,Networking
LOCATION:Seminole Hard Rock Hotel &amp\; Casino\, 1 Seminole Way\, Hollywoo
 d\, FL\, 33314\, United States
X-APPLE-STRUCTURED-LOCATION;VALUE=URI;X-ADDRESS=1 Seminole Way\, Hollywood\
 , FL\, 33314\, United States;X-APPLE-RADIUS=100;X-TITLE=Seminole Hard Rock
  Hotel & Casino:geo:0,0
END:VEVENT
BEGIN:VTIMEZONE
TZID:America/New_York
X-LIC-LOCATION:America/New_York
BEGIN:DAYLIGHT
DTSTART:20250309T030000
TZOFFSETFROM:-0500
TZOFFSETTO:-0400
TZNAME:EDT
END:DAYLIGHT
END:VTIMEZONE
END:VCALENDAR