BEGIN:VCALENDAR
VERSION:2.0
PRODID:-//wp-events-plugin.com//7.2.3.1//EN
TZID:America/New_York
X-WR-TIMEZONE:America/New_York
BEGIN:VEVENT
UID:5095@goriverwalk.com
DTSTART;TZID=America/New_York:20180720T190000
DTEND;TZID=America/New_York:20180720T210000
DTSTAMP:20180711T190102Z
URL:https://www.goriverwalk.com/greater-fort-lauderdale-events/we-will-roc
 k-you-the-musical
SUMMARY:We Will Rock You - The Musical
DESCRIPTION:The story of a group of Bohemians
ATTACH;FMTTYPE=image/jpeg:https://www.goriverwalk.com/wp-content/uploads/2
 018/06/wel-will-rock-you.png
CATEGORIES:Cultural,Theater
LOCATION:Lauderhill Performing Arts Center\, 3800 NW 11th Place\, Lauderhil
 l\, FL\, 33311\, United States
GEO:26.1387227;-80.20021409999998
X-APPLE-STRUCTURED-LOCATION;VALUE=URI;X-ADDRESS=3800 NW 11th Place\, Lauder
 hill\, FL\, 33311\, United States;X-APPLE-RADIUS=100;X-TITLE=Lauderhill Pe
 rforming Arts Center:geo:26.1387227,-80.20021409999998
END:VEVENT
BEGIN:VTIMEZONE
TZID:America/New_York
X-LIC-LOCATION:America/New_York
BEGIN:DAYLIGHT
DTSTART:20180311T030000
TZOFFSETFROM:-0500
TZOFFSETTO:-0400
TZNAME:EDT
END:DAYLIGHT
END:VTIMEZONE
END:VCALENDAR