BEGIN:VCALENDAR
VERSION:2.0
PRODID:-//wp-events-plugin.com//7.2.3.1//EN
TZID:America/New_York
X-WR-TIMEZONE:America/New_York
BEGIN:VEVENT
UID:6870@goriverwalk.com
DTSTART;TZID=America/New_York:20190428T073000
DTEND;TZID=America/New_York:20190428T110000
DTSTAMP:20190211T164301Z
URL:https://www.goriverwalk.com/greater-fort-lauderdale-events/walk-like-m
 add-madd-dash-fort-lauderdale-5k-2
SUMMARY:Walk Like MADD & MADD Dash Fort Lauderdale 5K
DESCRIPTION:Raising money for victims of drunk driving
ATTACH;FMTTYPE=image/jpeg:https://www.goriverwalk.com/wp-content/uploads/2
 019/02/MADD-Start-20185-2.jpg
CATEGORIES:Fundraiser
LOCATION:Huizenga Park\, 32 E. Las Olas Blvd.\, Fort Lauderdale\, FL\, 3330
 1\, United States
GEO:26.118483;-80.143036
X-APPLE-STRUCTURED-LOCATION;VALUE=URI;X-ADDRESS=32 E. Las Olas Blvd.\, Fort
  Lauderdale\, FL\, 33301\, United States;X-APPLE-RADIUS=100;X-TITLE=Huizen
 ga Park:geo:26.118483,-80.143036
END:VEVENT
BEGIN:VTIMEZONE
TZID:America/New_York
X-LIC-LOCATION:America/New_York
BEGIN:DAYLIGHT
DTSTART:20190310T030000
TZOFFSETFROM:-0500
TZOFFSETTO:-0400
TZNAME:EDT
END:DAYLIGHT
END:VTIMEZONE
END:VCALENDAR