BEGIN:VCALENDAR
VERSION:2.0
PRODID:-//wp-events-plugin.com//7.2.3.1//EN
TZID:America/New_York
X-WR-TIMEZONE:America/New_York
BEGIN:VEVENT
UID:15806@goriverwalk.com
DTSTART;TZID=America/New_York:20230109T183000
DTEND;TZID=America/New_York:20230115T213000
DTSTAMP:20221206T220132Z
URL:https://www.goriverwalk.com/greater-fort-lauderdale-events/visit-laude
 rdale-wine-food-festival
SUMMARY:Visit Lauderdale Wine & Food Festival
DESCRIPTION:A variety of events and classes
ATTACH;FMTTYPE=image/jpeg:https://www.goriverwalk.com/wp-content/uploads/2
 022/12/VLFWF.jpg
CATEGORIES:Cocktail,Community,Education,Festival,Food
END:VEVENT
BEGIN:VTIMEZONE
TZID:America/New_York
X-LIC-LOCATION:America/New_York
BEGIN:STANDARD
DTSTART:20221106T010000
TZOFFSETFROM:-0400
TZOFFSETTO:-0500
TZNAME:EST
END:STANDARD
END:VTIMEZONE
END:VCALENDAR