BEGIN:VCALENDAR
VERSION:2.0
PRODID:-//wp-events-plugin.com//7.2.3.1//EN
TZID:America/New_York
X-WR-TIMEZONE:America/New_York
BEGIN:VEVENT
UID:22588@goriverwalk.com
DTSTART;TZID=America/New_York:20260307T100000
DTEND;TZID=America/New_York:20260307T170000
DTSTAMP:20260303T152116Z
URL:https://www.goriverwalk.com/greater-fort-lauderdale-events/visit-laude
 rdale-science-festival-2
SUMMARY:Visit Lauderdale Science Festival
DESCRIPTION:Science takes center stage at the Third Annual Visit Lauderdale
  Science Festival. This FREE\, indoor-outdoor celebration transforms downt
 own Fort Lauderdale into a playground of hands-on STEM fun\, live experime
 nts and big wow moments. All-day screenings in the IMAX® Theater and Holo
 Theater included!\n\nFestival Headliners Bring the Science to Life\n\nThes
 e featured performers are just a few of the many interactive experiences g
 uests can enjoy throughout the day.\n\n Science Bob - YouTube star\, scie
 nce teacher and maker “Science Bob” Pflugfelder brings fast-paced expe
 riments\, big reactions and plenty of wow moments.\n\n Chemistry Colleen:
  Black Marker Ate a Rainbow - Dr. Colleen Kelley showcases a quick\, color
 ful demo with paper chromatography\, revealing how colors separate and mix
 .\n\n 	School of Rock - Students from School of Rock bring the energy with
  a live performance that blends rhythm\, sound science and teamwork.\n\n
 ● WeFlip Science Acrobats - This high-energy duo turns physics into a fu
 ll-body experience\, flipping\, climbing and testing gravity in real time.
 \n\nFor more information and tickets click here.
ATTACH;FMTTYPE=image/jpeg:https://www.goriverwalk.com/wp-content/uploads/2
 026/03/Science-Festival.jpg
CATEGORIES:Children,Community,Cultural,Education,Festival,Free,Hobby,Scien
 ce
LOCATION:Museum of Discovery and Science\, 401 SW 2nd Street\, Fort Lauderd
 ale\, FL\, 33312\, United States
GEO:26.120718;-80.14800500000001
X-APPLE-STRUCTURED-LOCATION;VALUE=URI;X-ADDRESS=401 SW 2nd Street\, Fort La
 uderdale\, FL\, 33312\, United States;X-APPLE-RADIUS=100;X-TITLE=Museum of
  Discovery and Science:geo:26.120718,-80.14800500000001
END:VEVENT
BEGIN:VTIMEZONE
TZID:America/New_York
X-LIC-LOCATION:America/New_York
BEGIN:STANDARD
DTSTART:20251102T010000
TZOFFSETFROM:-0400
TZOFFSETTO:-0500
TZNAME:EST
END:STANDARD
END:VTIMEZONE
END:VCALENDAR