BEGIN:VCALENDAR
VERSION:2.0
PRODID:-//wp-events-plugin.com//7.2.3.1//EN
TZID:America/New_York
X-WR-TIMEZONE:America/New_York
BEGIN:VEVENT
UID:7646@goriverwalk.com
DTSTART;TZID=America/New_York:20190714T100000
DTEND;TZID=America/New_York:20190714T121500
DTSTAMP:20190621T165810Z
URL:https://www.goriverwalk.com/greater-fort-lauderdale-events/vinyasa-vod
 ka
SUMMARY:Vinyasa & Vodka
DESCRIPTION:A unique yoga experience
ATTACH;FMTTYPE=image/jpeg:https://www.goriverwalk.com/wp-content/uploads/2
 019/06/4A.png
CATEGORIES:Cocktail,Food
LOCATION:SKY TERRACE WESTIN FORT LAUDERDALE BEACH\, 321 N. Fort Lauderdale 
 Beach Boulevard\, Fort Lauderdale\, FL\, 33304\, United States
GEO:26.1269747;-80.1041927
X-APPLE-STRUCTURED-LOCATION;VALUE=URI;X-ADDRESS=321 N. Fort Lauderdale Beac
 h Boulevard\, Fort Lauderdale\, FL\, 33304\, United States;X-APPLE-RADIUS=
 100;X-TITLE=SKY TERRACE WESTIN FORT LAUDERDALE BEACH:geo:26.1269747,-80.10
 41927
END:VEVENT
BEGIN:VTIMEZONE
TZID:America/New_York
X-LIC-LOCATION:America/New_York
BEGIN:DAYLIGHT
DTSTART:20190310T030000
TZOFFSETFROM:-0500
TZOFFSETTO:-0400
TZNAME:EDT
END:DAYLIGHT
END:VTIMEZONE
END:VCALENDAR