BEGIN:VCALENDAR
VERSION:2.0
PRODID:-//wp-events-plugin.com//7.2.3.1//EN
TZID:America/New_York
X-WR-TIMEZONE:America/New_York
BEGIN:VEVENT
UID:15389@goriverwalk.com
DTSTART;TZID=America/New_York:20221026T173000
DTEND;TZID=America/New_York:20221026T193000
DTSTAMP:20221025T173456Z
URL:https://www.goriverwalk.com/greater-fort-lauderdale-events/village-squ
 are-membership-recruitment
SUMMARY:Village Square Membership Recruitment
DESCRIPTION:Learn about the benefits of membership
ATTACH;FMTTYPE=image/jpeg:https://www.goriverwalk.com/wp-content/uploads/2
 022/10/VILLAGE-SQUARE.jpg
CATEGORIES:Community,Education,Fundraiser,Networking
LOCATION:Rooftop\, 1 W. Las Olas Blvd. suite 700\, Fort Lauderdale\, FL\, 3
 3301\, United States
GEO:26.1195838;-80.1437742
X-APPLE-STRUCTURED-LOCATION;VALUE=URI;X-ADDRESS=1 W. Las Olas Blvd. suite 7
 00\, Fort Lauderdale\, FL\, 33301\, United States;X-APPLE-RADIUS=100;X-TIT
 LE=Rooftop:geo:26.1195838,-80.1437742
END:VEVENT
BEGIN:VTIMEZONE
TZID:America/New_York
X-LIC-LOCATION:America/New_York
BEGIN:DAYLIGHT
DTSTART:20220313T030000
TZOFFSETFROM:-0500
TZOFFSETTO:-0400
TZNAME:EDT
END:DAYLIGHT
END:VTIMEZONE
END:VCALENDAR