BEGIN:VCALENDAR
VERSION:2.0
PRODID:-//wp-events-plugin.com//7.2.3.1//EN
TZID:America/New_York
X-WR-TIMEZONE:America/New_York
BEGIN:VEVENT
UID:5996@goriverwalk.com
DTSTART;TZID=America/New_York:20181103T103000
DTEND;TZID=America/New_York:20181103T173000
DTSTAMP:20181010T152653Z
URL:https://www.goriverwalk.com/greater-fort-lauderdale-events/vet-fest
SUMMARY:Vet Fest
DESCRIPTION:For veterans\, active military personnel and their families
ATTACH;FMTTYPE=image/jpeg:https://www.goriverwalk.com/wp-content/uploads/2
 017/11/Default-calendar.jpg
CATEGORIES:Community,Education
LOCATION:Broward County Main Library \, 100 S. Andrews Avenue\, Fort Lauder
 dale\, Florida\, 33301\, Broward County\, United States
GEO:26.120947;-80.142899
X-APPLE-STRUCTURED-LOCATION;VALUE=URI;X-ADDRESS=100 S. Andrews Avenue\, For
 t Lauderdale\, Florida\, 33301\, Broward County\, United States;X-APPLE-RA
 DIUS=100;X-TITLE=Broward County Main Library :geo:26.120947,-80.142899
END:VEVENT
BEGIN:VTIMEZONE
TZID:America/New_York
X-LIC-LOCATION:America/New_York
BEGIN:DAYLIGHT
DTSTART:20180311T030000
TZOFFSETFROM:-0500
TZOFFSETTO:-0400
TZNAME:EDT
END:DAYLIGHT
END:VTIMEZONE
END:VCALENDAR