BEGIN:VCALENDAR
VERSION:2.0
PRODID:-//wp-events-plugin.com//7.2.3.1//EN
TZID:America/New_York
X-WR-TIMEZONE:America/New_York
BEGIN:VEVENT
UID:5856@goriverwalk.com
DTSTART;TZID=America/New_York:20181114T180000
DTEND;TZID=America/New_York:20181114T210000
DTSTAMP:20181025T155059Z
URL:https://www.goriverwalk.com/greater-fort-lauderdale-events/venetian-ar
 ts-cafe-society
SUMMARY:Venetian Arts Café Society
DESCRIPTION:Featuring pianist Jose Negroni
ATTACH;FMTTYPE=image/jpeg:https://www.goriverwalk.com/wp-content/uploads/2
 018/09/Cafe-Society.jpg
CATEGORIES:Art
LOCATION:Wiener Museum of Decorative Arts\, 481 S Federal Hwy Dania Beach\,
  FL 33004\, Dania Beach\, FL\, 33004\, United States
GEO:26.043371;-80.143044
X-APPLE-STRUCTURED-LOCATION;VALUE=URI;X-ADDRESS=481 S Federal Hwy Dania Bea
 ch\, FL 33004\, Dania Beach\, FL\, 33004\, United States;X-APPLE-RADIUS=10
 0;X-TITLE=Wiener Museum of Decorative Arts:geo:26.043371,-80.143044
END:VEVENT
BEGIN:VTIMEZONE
TZID:America/New_York
X-LIC-LOCATION:America/New_York
BEGIN:STANDARD
DTSTART:20181104T010000
TZOFFSETFROM:-0400
TZOFFSETTO:-0500
TZNAME:EST
END:STANDARD
END:VTIMEZONE
END:VCALENDAR