BEGIN:VCALENDAR
VERSION:2.0
PRODID:-//wp-events-plugin.com//7.2.3.1//EN
TZID:America/New_York
X-WR-TIMEZONE:America/New_York
BEGIN:VEVENT
UID:7866@goriverwalk.com
DTSTART;TZID=America/New_York:20190803T100000
DTEND;TZID=America/New_York:20190803T130000
DTSTAMP:20190731T142140Z
URL:https://www.goriverwalk.com/greater-fort-lauderdale-events/usa-footbal
 l-first-down-tour
SUMMARY:USA Football First Down Tour
DESCRIPTION:An introduction to the game for kids 4-9
ATTACH;FMTTYPE=image/jpeg:https://www.goriverwalk.com/wp-content/uploads/2
 019/07/Firstdown2.jpg
CATEGORIES:Sports
LOCATION:Joseph C. Carter Park\, 1450 W Sunrise Blvd\, Ft. Lauderdale\, FL\
 , 33311\, United States
GEO:26.1352225;-80.16227420000001
X-APPLE-STRUCTURED-LOCATION;VALUE=URI;X-ADDRESS=1450 W Sunrise Blvd\, Ft. L
 auderdale\, FL\, 33311\, United States;X-APPLE-RADIUS=100;X-TITLE=Joseph C
 . Carter Park:geo:26.1352225,-80.16227420000001
END:VEVENT
BEGIN:VTIMEZONE
TZID:America/New_York
X-LIC-LOCATION:America/New_York
BEGIN:DAYLIGHT
DTSTART:20190310T030000
TZOFFSETFROM:-0500
TZOFFSETTO:-0400
TZNAME:EDT
END:DAYLIGHT
END:VTIMEZONE
END:VCALENDAR