BEGIN:VCALENDAR
VERSION:2.0
PRODID:-//wp-events-plugin.com//7.2.3.1//EN
TZID:America/New_York
X-WR-TIMEZONE:America/New_York
BEGIN:VEVENT
UID:9987@goriverwalk.com
DTSTART;TZID=America/New_York:20200723T180000
DTEND;TZID=America/New_York:20200723T193000
DTSTAMP:20200720T163123Z
URL:https://www.goriverwalk.com/greater-fort-lauderdale-events/unspoken-2
SUMMARY:Unspoken
DESCRIPTION:Discovering Black: The Day you Became a Color and the Trauma Af
 ter
ATTACH;FMTTYPE=image/jpeg:https://www.goriverwalk.com/wp-content/uploads/2
 020/07/handy-unspoken-1.jpg
END:VEVENT
BEGIN:VTIMEZONE
TZID:America/New_York
X-LIC-LOCATION:America/New_York
BEGIN:DAYLIGHT
DTSTART:20200308T030000
TZOFFSETFROM:-0500
TZOFFSETTO:-0400
TZNAME:EDT
END:DAYLIGHT
END:VTIMEZONE
END:VCALENDAR