BEGIN:VCALENDAR
VERSION:2.0
PRODID:-//wp-events-plugin.com//7.2.3.1//EN
TZID:America/New_York
X-WR-TIMEZONE:America/New_York
BEGIN:VEVENT
UID:5004@goriverwalk.com
DTSTART;TZID=America/New_York:20180622T190000
DTEND;TZID=America/New_York:20180622T220000
DTSTAMP:20180615T184637Z
URL:https://www.goriverwalk.com/greater-fort-lauderdale-events/unleash-you
 r-life
SUMMARY:Unleash Your Life!
DESCRIPTION:Come out for vodka-infused cold-pressed cocktails
ATTACH;FMTTYPE=image/jpeg:https://www.goriverwalk.com/wp-content/uploads/2
 018/06/unleash-life.png
CATEGORIES:Cocktail
LOCATION:Tula Bistro\, 818 NE. 4th Street\, Fort Lauderdale\, Florida\, 333
 04\, Broward\, United States
GEO:26.1340979;-80.13971129999999
X-APPLE-STRUCTURED-LOCATION;VALUE=URI;X-ADDRESS=818 NE. 4th Street\, Fort L
 auderdale\, Florida\, 33304\, Broward\, United States;X-APPLE-RADIUS=100;X
 -TITLE=Tula Bistro:geo:26.1340979,-80.13971129999999
END:VEVENT
BEGIN:VTIMEZONE
TZID:America/New_York
X-LIC-LOCATION:America/New_York
BEGIN:DAYLIGHT
DTSTART:20180311T030000
TZOFFSETFROM:-0500
TZOFFSETTO:-0400
TZNAME:EDT
END:DAYLIGHT
END:VTIMEZONE
END:VCALENDAR