BEGIN:VCALENDAR
VERSION:2.0
PRODID:-//wp-events-plugin.com//7.2.3.1//EN
TZID:America/New_York
X-WR-TIMEZONE:America/New_York
BEGIN:VEVENT
UID:9742@goriverwalk.com
DTSTART;TZID=America/New_York:20200501T141500
DTEND;TZID=America/New_York:20200501T151500
DTSTAMP:20200428T131705Z
URL:https://www.goriverwalk.com/greater-fort-lauderdale-events/united-way-
 of-broward-county-to-host-health-equity-webinar
SUMMARY:United Way of Broward County to Host Health Equity Webinar
DESCRIPTION:Free &amp\; open to the public
ATTACH;FMTTYPE=image/jpeg:https://www.goriverwalk.com/wp-content/uploads/2
 020/01/united-way-80.jpg
CATEGORIES:Community
END:VEVENT
BEGIN:VTIMEZONE
TZID:America/New_York
X-LIC-LOCATION:America/New_York
BEGIN:DAYLIGHT
DTSTART:20200308T030000
TZOFFSETFROM:-0500
TZOFFSETTO:-0400
TZNAME:EDT
END:DAYLIGHT
END:VTIMEZONE
END:VCALENDAR