BEGIN:VCALENDAR
VERSION:2.0
PRODID:-//wp-events-plugin.com//7.2.3.1//EN
TZID:America/New_York
X-WR-TIMEZONE:America/New_York
BEGIN:VEVENT
UID:5185@goriverwalk.com
DTSTART;TZID=America/New_York:20180808T190000
DTEND;TZID=America/New_York:20180808T220000
DTSTAMP:20180711T175435Z
URL:https://www.goriverwalk.com/greater-fort-lauderdale-events/twisted-bro
 adway
SUMMARY:Twisted Broadway
DESCRIPTION:Celebrity guest servers join the fun staff
ATTACH;FMTTYPE=image/jpeg:https://www.goriverwalk.com/wp-content/uploads/2
 018/07/Lips-Twisted-Broadway_touse.jpg
CATEGORIES:Cocktail,Community,Food,Fundraiser
LOCATION:LIPS Restaurant\, 1421 E Oakland Park Blvd\, Fort Lauderdale\, FL\
 , 33334\, United States
GEO:26.1674228;-80.1286829
X-APPLE-STRUCTURED-LOCATION;VALUE=URI;X-ADDRESS=1421 E Oakland Park Blvd\, 
 Fort Lauderdale\, FL\, 33334\, United States;X-APPLE-RADIUS=100;X-TITLE=LI
 PS Restaurant:geo:26.1674228,-80.1286829
END:VEVENT
BEGIN:VTIMEZONE
TZID:America/New_York
X-LIC-LOCATION:America/New_York
BEGIN:DAYLIGHT
DTSTART:20180311T030000
TZOFFSETFROM:-0500
TZOFFSETTO:-0400
TZNAME:EDT
END:DAYLIGHT
END:VTIMEZONE
END:VCALENDAR