BEGIN:VCALENDAR
VERSION:2.0
PRODID:-//wp-events-plugin.com//7.2.3.1//EN
TZID:America/New_York
X-WR-TIMEZONE:America/New_York
BEGIN:VEVENT
UID:14524@goriverwalk.com
DTSTART;TZID=America/New_York:20220722T000000
DTEND;TZID=America/New_York:20220724T000000
DTSTAMP:20220714T174858Z
URL:https://www.goriverwalk.com/greater-fort-lauderdale-events/tropical-ch
 ristmas-in-july-cruises
SUMMARY:Tropical Christmas in July Cruises
DESCRIPTION:"Christmas" Cruise on the Water Taxi!
ATTACH;FMTTYPE=image/jpeg:https://www.goriverwalk.com/wp-content/uploads/2
 022/07/xmas-in-july.jpg
CATEGORIES:Cocktail,Holiday,Music,Nature
LOCATION:Water Taxi Stop #1\, 335 SE 6th Avenue\, Fort Lauderdale\, FL\, 33
 301\, United States
X-APPLE-STRUCTURED-LOCATION;VALUE=URI;X-ADDRESS=335 SE 6th Avenue\, Fort La
 uderdale\, FL\, 33301\, United States;X-APPLE-RADIUS=100;X-TITLE=Water Tax
 i Stop #1:geo:0,0
END:VEVENT
BEGIN:VTIMEZONE
TZID:America/New_York
X-LIC-LOCATION:America/New_York
BEGIN:DAYLIGHT
DTSTART:20220313T030000
TZOFFSETFROM:-0500
TZOFFSETTO:-0400
TZNAME:EDT
END:DAYLIGHT
END:VTIMEZONE
END:VCALENDAR