BEGIN:VCALENDAR
VERSION:2.0
PRODID:-//wp-events-plugin.com//7.2.3.1//EN
TZID:America/New_York
X-WR-TIMEZONE:America/New_York
BEGIN:VEVENT
UID:18731@goriverwalk.com
DTSTART;TZID=America/New_York:20240502T180000
DTEND;TZID=America/New_York:20240502T200000
DTSTAMP:20240430T154521Z
URL:https://www.goriverwalk.com/greater-fort-lauderdale-events/tribute-24
SUMMARY:24th Annual Riverwalk Tribute
DESCRIPTION:Honoring community leaders Alexa & Britt Lanier\, Bill Walker\,
  Jarett S. Levan and Phil Purcell
ATTACH;FMTTYPE=image/jpeg:https://www.goriverwalk.com/wp-content/uploads/2
 024/02/Tribute-24-Banner3x6-scaled.jpg
CATEGORIES:Business,Community,Food,Fundraiser,Riverwalk Front
 Page,Riverwalk Front Page,Riverwalk Happenings
LOCATION:The Riverside Hotel\, 620 E Las Olas Blvd\, Fort Lauderdale\, FL\,
  33301\, Broward\, United States
X-APPLE-STRUCTURED-LOCATION;VALUE=URI;X-ADDRESS=620 E Las Olas Blvd\, Fort 
 Lauderdale\, FL\, 33301\, Broward\, United States;X-APPLE-RADIUS=100;X-TIT
 LE=The Riverside Hotel:geo:0,0
END:VEVENT
BEGIN:VTIMEZONE
TZID:America/New_York
X-LIC-LOCATION:America/New_York
BEGIN:DAYLIGHT
DTSTART:20240310T030000
TZOFFSETFROM:-0500
TZOFFSETTO:-0400
TZNAME:EDT
END:DAYLIGHT
END:VTIMEZONE
END:VCALENDAR