BEGIN:VCALENDAR
VERSION:2.0
PRODID:-//wp-events-plugin.com//7.2.3.1//EN
TZID:America/New_York
X-WR-TIMEZONE:America/New_York
BEGIN:VEVENT
UID:21802@goriverwalk.com
DTSTART;TZID=America/New_York:20251219T193000
DTEND;TZID=America/New_York:20251219T213000
DTSTAMP:20251209T193829Z
URL:https://www.goriverwalk.com/greater-fort-lauderdale-events/treble-tidi
 ngs-an-a-cappella-holiday-concert
SUMMARY:Treble & Tidings: An A Cappella Holiday Concert
DESCRIPTION:A new experience – the Cathedral Pub
ATTACH;FMTTYPE=image/jpeg:https://www.goriverwalk.com/wp-content/uploads/2
 025/12/123502-Treble-Tidings-An-A-Cappella-Holiday-Concert-at-Sunshine-Cat
 hedral-Center-for-the-Performing-Arts-1.jpg
CATEGORIES:Food,Music,Theater
LOCATION:Sunshine Cathedral MCC\, 1480 Southwest 9th Avenue\, Fort Lauderda
 le\, FL\, 33315\, United States
X-APPLE-STRUCTURED-LOCATION;VALUE=URI;X-ADDRESS=1480 Southwest 9th Avenue\,
  Fort Lauderdale\, FL\, 33315\, United States;X-APPLE-RADIUS=100;X-TITLE=S
 unshine Cathedral MCC:geo:0,0
END:VEVENT
BEGIN:VTIMEZONE
TZID:America/New_York
X-LIC-LOCATION:America/New_York
BEGIN:STANDARD
DTSTART:20251102T010000
TZOFFSETFROM:-0400
TZOFFSETTO:-0500
TZNAME:EST
END:STANDARD
END:VTIMEZONE
END:VCALENDAR