BEGIN:VCALENDAR
VERSION:2.0
PRODID:-//wp-events-plugin.com//7.2.3.1//EN
TZID:America/New_York
X-WR-TIMEZONE:America/New_York
BEGIN:VEVENT
UID:9043@goriverwalk.com
DTSTART;TZID=America/New_York:20191214T110000
DTEND;TZID=America/New_York:20191214T150000
DTSTAMP:20191211T192434Z
URL:https://www.goriverwalk.com/greater-fort-lauderdale-events/traveling-h
 oliday-carols
SUMMARY:Traveling Holiday Carols
DESCRIPTION:By the South Plantation High School Choir
ATTACH;FMTTYPE=image/jpeg:https://www.goriverwalk.com/wp-content/uploads/2
 019/12/cijex3c9bfqav4sojfef-1.jpg
CATEGORIES:Art,Community,Holiday,Music
LOCATION:Westfield Broward\, 8000 West Broward Blvd\, Plantation\, FL\, 333
 88\, United States
X-APPLE-STRUCTURED-LOCATION;VALUE=URI;X-ADDRESS=8000 West Broward Blvd\, Pl
 antation\, FL\, 33388\, United States;X-APPLE-RADIUS=100;X-TITLE=Westfield
  Broward:geo:0,0
END:VEVENT
BEGIN:VTIMEZONE
TZID:America/New_York
X-LIC-LOCATION:America/New_York
BEGIN:STANDARD
DTSTART:20191103T010000
TZOFFSETFROM:-0400
TZOFFSETTO:-0500
TZNAME:EST
END:STANDARD
END:VTIMEZONE
END:VCALENDAR