BEGIN:VCALENDAR
VERSION:2.0
PRODID:-//wp-events-plugin.com//7.2.3.1//EN
TZID:America/New_York
X-WR-TIMEZONE:America/New_York
BEGIN:VEVENT
UID:22938@goriverwalk.com
DTSTART;TZID=America/New_York:20260428T113000
DTEND;TZID=America/New_York:20260428T130000
DTSTAMP:20260422T115107Z
URL:https://www.goriverwalk.com/greater-fort-lauderdale-events/tower-forum
 -lunch
SUMMARY:Tower Forum Lunch
DESCRIPTION:Join us for an engaging Fireside Chat featuring Rob Stevenson\,
  Chief Operating Officer of the Florida Panthers\, moderated by Gail Bulfi
 n\, Senior Vice President of the Greater Fort Lauderdale Alliance. Appoint
 ed COO in August 2025\, Stevenson has played a pivotal role in the organiz
 ation’s recent success\, including back-to-back Stanley Cup championship
 s in 2024 and 2025.\nIn his role\, Stevenson oversees a broad portfolio in
 cluding operations\, facilities management\, event services\, live enterta
 inment\, hospitality\, and the Panthers IceDen and FTL War Memorial comple
 x. He has been instrumental in leading strategic arena renovations aimed a
 t enhancing fan experience\, increasing revenue\, and improving operationa
 l efficiency. His leadership has also reshaped organizational design and s
 trengthened a culture that positions Panthers-operated venues as vital com
 munity assets.\nPrior to joining the Panthers\, Stevenson held leadership 
 roles at Goldman Sachs Ayco and Point72\, specializing in financial manage
 ment and talent strategy. A decorated Navy SEAL\, he served two tours in A
 fghanistan with SEAL Team TWO\, earning multiple commendations including t
 he Bronze Star Medal. He continues his service as a Commander in the U.S. 
 Navy Reserve.\nA graduate of Amherst College and the Yale School of Manage
 ment\, Stevenson brings a unique blend of military leadership\, financial 
 expertise\, and sports industry innovation. In this conversation\, he will
  share insights on leadership\, organizational transformation\, and buildi
 ng a championship culture both on and off the ice.\nBrought to you by Pre
 senting Member\, Florida Atlantic University. \n\n\n\nClick here for regi
 stration and more information.
ATTACH;FMTTYPE=image/jpeg:https://www.goriverwalk.com/wp-content/uploads/2
 026/04/Rob-Stevenson-Chief-Operating-Officer.jpg
CATEGORIES:Business
LOCATION:The Tower Club Fort Lauderdale\, 100 SE Third Avenue\, 28th floor\
 , Fort Lauderdale \, Florida \, United States
GEO:26.1216652;-80.13982140000002
X-APPLE-STRUCTURED-LOCATION;VALUE=URI;X-ADDRESS=100 SE Third Avenue\, 28th 
 floor\, Fort Lauderdale \, Florida \, United States;X-APPLE-RADIUS=100;X-T
 ITLE=The Tower Club Fort Lauderdale:geo:26.1216652,-80.13982140000002
END:VEVENT
BEGIN:VTIMEZONE
TZID:America/New_York
X-LIC-LOCATION:America/New_York
BEGIN:DAYLIGHT
DTSTART:20260308T030000
TZOFFSETFROM:-0500
TZOFFSETTO:-0400
TZNAME:EDT
END:DAYLIGHT
END:VTIMEZONE
END:VCALENDAR