BEGIN:VCALENDAR
VERSION:2.0
PRODID:-//wp-events-plugin.com//7.2.3.1//EN
TZID:America/New_York
X-WR-TIMEZONE:America/New_York
BEGIN:VEVENT
UID:22595@goriverwalk.com
DTSTART;TZID=America/New_York:20260311T073000
DTEND;TZID=America/New_York:20260311T090000
DTSTAMP:20260307T010201Z
URL:https://www.goriverwalk.com/greater-fort-lauderdale-events/tower-forum
 -breakfast
SUMMARY:Tower Forum Breakfast
DESCRIPTION:Moderated by Ed Pozzuoli | Panelists: Tim Petrillo\, Jenni More
 jon\, Peter M. Moore\n\nThe focus will be on how to balance that growth wi
 th infrastructure demands and maintaining quality of life\, ensuring the c
 ity remains both relatable and livable. The conversation addresses how we 
 handle ongoing growth while preserving what makes our city unique. 
ATTACH;FMTTYPE=image/jpeg:https://www.goriverwalk.com/wp-content/uploads/2
 026/03/Balancing-Growth-Infrastructure-and-Quality-of-Life-for-Broward-7.p
 ng
CATEGORIES:Business,Community
LOCATION:The Tower Club Fort Lauderdale\, 100 SE Third Avenue\, 28th floor\
 , Fort Lauderdale \, Florida \, United States
GEO:26.1216652;-80.13982140000002
X-APPLE-STRUCTURED-LOCATION;VALUE=URI;X-ADDRESS=100 SE Third Avenue\, 28th 
 floor\, Fort Lauderdale \, Florida \, United States;X-APPLE-RADIUS=100;X-T
 ITLE=The Tower Club Fort Lauderdale:geo:26.1216652,-80.13982140000002
END:VEVENT
BEGIN:VTIMEZONE
TZID:America/New_York
X-LIC-LOCATION:America/New_York
BEGIN:DAYLIGHT
DTSTART:20260308T030000
TZOFFSETFROM:-0500
TZOFFSETTO:-0400
TZNAME:EDT
END:DAYLIGHT
END:VTIMEZONE
END:VCALENDAR