BEGIN:VCALENDAR
VERSION:2.0
PRODID:-//wp-events-plugin.com//7.2.3.1//EN
TZID:America/New_York
X-WR-TIMEZONE:America/New_York
BEGIN:VEVENT
UID:21608@goriverwalk.com
DTSTART;TZID=America/New_York:20251121T190000
DTEND;TZID=America/New_York:20251121T210000
DTSTAMP:20251118T181600Z
URL:https://www.goriverwalk.com/greater-fort-lauderdale-events/timeless-bo
 ogie-woogie-salute-a-uso-celebration
SUMMARY:Timeless Boogie Woogie Salute - A USO Celebration!
DESCRIPTION:Put on your best vintage attire and boogie through history
ATTACH;FMTTYPE=image/jpeg:https://www.goriverwalk.com/wp-content/uploads/2
 025/10/1-Copy.png
CATEGORIES:Music
LOCATION:Pompano Beach Cultural Center\, 50 West Atlantic Boulevard Suite 1
 \, Pompano Beach\, FL\, 33060\, United States
X-APPLE-STRUCTURED-LOCATION;VALUE=URI;X-ADDRESS=50 West Atlantic Boulevard 
 Suite 1\, Pompano Beach\, FL\, 33060\, United States;X-APPLE-RADIUS=100;X-
 TITLE=Pompano Beach Cultural Center:geo:0,0
END:VEVENT
BEGIN:VTIMEZONE
TZID:America/New_York
X-LIC-LOCATION:America/New_York
BEGIN:STANDARD
DTSTART:20251102T010000
TZOFFSETFROM:-0400
TZOFFSETTO:-0500
TZNAME:EST
END:STANDARD
END:VTIMEZONE
END:VCALENDAR