BEGIN:VCALENDAR
VERSION:2.0
PRODID:-//wp-events-plugin.com//7.2.3.1//EN
TZID:America/New_York
X-WR-TIMEZONE:America/New_York
BEGIN:VEVENT
UID:5363@goriverwalk.com
DTSTART;TZID=America/New_York:20180802T190000
DTEND;TZID=America/New_York:20180802T230000
DTSTAMP:20180723T183942Z
URL:https://www.goriverwalk.com/greater-fort-lauderdale-events/tilted-thur
 sdays-fortnite-competition
SUMMARY:Tilted Thursdays: Fortnite Competition
DESCRIPTION:Compete or do some VR
ATTACH;FMTTYPE=image/jpeg:https://www.goriverwalk.com/wp-content/uploads/2
 017/11/Default-calendar.jpg
CATEGORIES:Cocktail
LOCATION:South Florida Distillers\, 2608 South Federal Highway\, Fort Laude
 rdale\, FL\, 33316\, United States
GEO:26.0902487;-80.13590999999997
X-APPLE-STRUCTURED-LOCATION;VALUE=URI;X-ADDRESS=2608 South Federal Highway\
 , Fort Lauderdale\, FL\, 33316\, United States;X-APPLE-RADIUS=100;X-TITLE=
 South Florida Distillers:geo:26.0902487,-80.13590999999997
END:VEVENT
BEGIN:VTIMEZONE
TZID:America/New_York
X-LIC-LOCATION:America/New_York
BEGIN:DAYLIGHT
DTSTART:20180311T030000
TZOFFSETFROM:-0500
TZOFFSETTO:-0400
TZNAME:EDT
END:DAYLIGHT
END:VTIMEZONE
END:VCALENDAR