BEGIN:VCALENDAR
VERSION:2.0
PRODID:-//wp-events-plugin.com//7.2.3.1//EN
TZID:America/New_York
X-WR-TIMEZONE:America/New_York
BEGIN:VEVENT
UID:7019@goriverwalk.com
DTSTART;TZID=America/New_York:20190427T080000
DTEND;TZID=America/New_York:20190427T110000
DTSTAMP:20190228T143740Z
URL:https://www.goriverwalk.com/greater-fort-lauderdale-events/tillman-hon
 or-run-south-florida
SUMMARY:Tillman Honor Run South Florida
DESCRIPTION:Supporting the Tillman Scholar program
ATTACH;FMTTYPE=image/jpeg:https://www.goriverwalk.com/wp-content/uploads/2
 019/02/2019-Tillman-Honor-Run-flyer-South-FL-XX.jpg
CATEGORIES:Community,Fundraiser
LOCATION:Broward College South Campus\, 7200 Pines Blvd.\, Pembroke Pines\,
  FL\, 33024\, United States
GEO:26.0077942;-80.23430389999999
X-APPLE-STRUCTURED-LOCATION;VALUE=URI;X-ADDRESS=7200 Pines Blvd.\, Pembroke
  Pines\, FL\, 33024\, United States;X-APPLE-RADIUS=100;X-TITLE=Broward Col
 lege South Campus:geo:26.0077942,-80.23430389999999
END:VEVENT
BEGIN:VTIMEZONE
TZID:America/New_York
X-LIC-LOCATION:America/New_York
BEGIN:DAYLIGHT
DTSTART:20190310T030000
TZOFFSETFROM:-0500
TZOFFSETTO:-0400
TZNAME:EDT
END:DAYLIGHT
END:VTIMEZONE
END:VCALENDAR