BEGIN:VCALENDAR
VERSION:2.0
PRODID:-//wp-events-plugin.com//7.2.3.1//EN
TZID:America/New_York
X-WR-TIMEZONE:America/New_York
BEGIN:VEVENT
UID:5353@goriverwalk.com
DTSTART;TZID=America/New_York:20180725T174500
DTEND;TZID=America/New_York:20180725T203000
DTSTAMP:20180718T182427Z
URL:https://www.goriverwalk.com/greater-fort-lauderdale-events/tidal-town-
 halls-broward
SUMMARY:Tidal Town Halls - Broward
DESCRIPTION:Hear candidates' position on sea level rise
ATTACH;FMTTYPE=image/jpeg:https://www.goriverwalk.com/wp-content/uploads/2
 018/07/tidal-town-halls.jpg
CATEGORIES:Community
LOCATION:Nova Southeastern University:  Health Professions Division: Hull A
 uditorium Room #2105\, 3301 College Avenue \, Fort Lauderdale\, FL\, 33314
 \, FL\, United States
GEO:26.078607;-80.243539
X-APPLE-STRUCTURED-LOCATION;VALUE=URI;X-ADDRESS=3301 College Avenue \, Fort
  Lauderdale\, FL\, 33314\, FL\, United States;X-APPLE-RADIUS=100;X-TITLE=N
 ova Southeastern University:  Health Professions Division: Hull Auditorium
  Room #2105:geo:26.078607,-80.243539
END:VEVENT
BEGIN:VTIMEZONE
TZID:America/New_York
X-LIC-LOCATION:America/New_York
BEGIN:DAYLIGHT
DTSTART:20180311T030000
TZOFFSETFROM:-0500
TZOFFSETTO:-0400
TZNAME:EDT
END:DAYLIGHT
END:VTIMEZONE
END:VCALENDAR