BEGIN:VCALENDAR
VERSION:2.0
PRODID:-//wp-events-plugin.com//7.2.3.1//EN
TZID:America/New_York
X-WR-TIMEZONE:America/New_York
BEGIN:VEVENT
UID:14509@goriverwalk.com
DTSTART;TZID=America/New_York:20220813T203000
DTEND;TZID=America/New_York:20220813T223000
DTSTAMP:20220727T151658Z
URL:https://www.goriverwalk.com/greater-fort-lauderdale-events/thunderstor
 m-artis
SUMMARY:Thunderstorm Artis
DESCRIPTION:From Season 18 of The Voice
ATTACH;FMTTYPE=image/jpeg:https://www.goriverwalk.com/wp-content/uploads/2
 022/07/Thunderstorm-Artis2.jpg
CATEGORIES:Music
LOCATION:Abdo New River Room at The Broward Center for the Performing Arts\
 , 201 SW 5th Ave.\, Fort Lauderdale\, FL\, 33312\, United States
X-APPLE-STRUCTURED-LOCATION;VALUE=URI;X-ADDRESS=201 SW 5th Ave.\, Fort Laud
 erdale\, FL\, 33312\, United States;X-APPLE-RADIUS=100;X-TITLE=Abdo New Ri
 ver Room at The Broward Center for the Performing Arts:geo:0,0
END:VEVENT
BEGIN:VTIMEZONE
TZID:America/New_York
X-LIC-LOCATION:America/New_York
BEGIN:DAYLIGHT
DTSTART:20220313T030000
TZOFFSETFROM:-0500
TZOFFSETTO:-0400
TZNAME:EDT
END:DAYLIGHT
END:VTIMEZONE
END:VCALENDAR