BEGIN:VCALENDAR
VERSION:2.0
PRODID:-//wp-events-plugin.com//7.2.3.1//EN
TZID:America/New_York
X-WR-TIMEZONE:America/New_York
BEGIN:VEVENT
UID:5550@goriverwalk.com
DTSTART;TZID=America/New_York:20181018T113000
DTEND;TZID=America/New_York:20181018T140000
DTSTAMP:20180803T202138Z
URL:https://www.goriverwalk.com/greater-fort-lauderdale-events/three-decad
 es-celebration-luncheon
SUMMARY:Three Decades Celebration Luncheon
DESCRIPTION:Celebrating 30 years!
ATTACH;FMTTYPE=image/jpeg:https://www.goriverwalk.com/wp-content/uploads/2
 018/08/maestro-james-brooks.jpg
CATEGORIES:Food,Fundraiser
LOCATION:The Ritz Carlton Fort Lauderdale\, 1 N Fort Lauderdale Beach Boule
 vard\, Fort Lauderdale\, Florida\, United States
GEO:26.122976;-80.10473999999999
X-APPLE-STRUCTURED-LOCATION;VALUE=URI;X-ADDRESS=1 N Fort Lauderdale Beach B
 oulevard\, Fort Lauderdale\, Florida\, United States;X-APPLE-RADIUS=100;X-
 TITLE=The Ritz Carlton Fort Lauderdale:geo:26.122976,-80.10473999999999
END:VEVENT
BEGIN:VTIMEZONE
TZID:America/New_York
X-LIC-LOCATION:America/New_York
BEGIN:DAYLIGHT
DTSTART:20180311T030000
TZOFFSETFROM:-0500
TZOFFSETTO:-0400
TZNAME:EDT
END:DAYLIGHT
END:VTIMEZONE
END:VCALENDAR