BEGIN:VCALENDAR
VERSION:2.0
PRODID:-//wp-events-plugin.com//7.2.3.1//EN
TZID:America/New_York
X-WR-TIMEZONE:America/New_York
BEGIN:VEVENT
UID:17209@goriverwalk.com
DTSTART;TZID=America/New_York:20231116T180000
DTEND;TZID=America/New_York:20231116T210000
DTSTAMP:20230905T003913Z
URL:https://www.goriverwalk.com/greater-fort-lauderdale-events/third-annua
 l-art-somm
SUMMARY:Business for the Arts of Broward’s Third Annual Art &amp\; Somm
DESCRIPTION:resented by Burdette Beckmann Inc. (BBI).
ATTACH;FMTTYPE=image/jpeg:https://www.goriverwalk.com/wp-content/uploads/2
 023/07/IMG_9307.jpg
CATEGORIES:Art,Cocktail,Food,Fundraiser
LOCATION:MAD Arts\,  481 S. Federal Hwy\, Dania Beach\, FL\, 33004\, United
  States
X-APPLE-STRUCTURED-LOCATION;VALUE=URI;X-ADDRESS= 481 S. Federal Hwy\, Dania
  Beach\, FL\, 33004\, United States;X-APPLE-RADIUS=100;X-TITLE=MAD Arts:ge
 o:0,0
END:VEVENT
BEGIN:VTIMEZONE
TZID:America/New_York
X-LIC-LOCATION:America/New_York
BEGIN:STANDARD
DTSTART:20231105T010000
TZOFFSETFROM:-0400
TZOFFSETTO:-0500
TZNAME:EST
END:STANDARD
END:VTIMEZONE
END:VCALENDAR