BEGIN:VCALENDAR
VERSION:2.0
PRODID:-//wp-events-plugin.com//7.2.3.1//EN
TZID:America/New_York
X-WR-TIMEZONE:America/New_York
BEGIN:VEVENT
UID:1514@goriverwalk.com
DTSTART;TZID=America/New_York:20160409T063000
DTEND;TZID=America/New_York:20160409T100000
DTSTAMP:20160125T190356Z
URL:https://www.goriverwalk.com/greater-fort-lauderdale-events/thin-mint-s
 print
SUMMARY:Thin Mint Sprint
DESCRIPTION:Benefiting Girl Scouts of Southeast Florida\, this chip-timed r
 ace will have awards in 17 categories...
ATTACH;FMTTYPE=image/jpeg:https://www.goriverwalk.com/wp-content/uploads/2
 015/12/Default-calendar-1.jpg
CATEGORIES:Health
LOCATION:Topeekeegee Yugnee Park\, 3300 N Park Road\, Hollywood\, FL\, 3302
 1\, United States
GEO:26.0366997;-80.17567739999998
X-APPLE-STRUCTURED-LOCATION;VALUE=URI;X-ADDRESS=3300 N Park Road\, Hollywoo
 d\, FL\, 33021\, United States;X-APPLE-RADIUS=100;X-TITLE=Topeekeegee Yugn
 ee Park:geo:26.0366997,-80.17567739999998
END:VEVENT
BEGIN:VTIMEZONE
TZID:America/New_York
X-LIC-LOCATION:America/New_York
BEGIN:DAYLIGHT
DTSTART:20160313T030000
TZOFFSETFROM:-0500
TZOFFSETTO:-0400
TZNAME:EDT
END:DAYLIGHT
END:VTIMEZONE
END:VCALENDAR