BEGIN:VCALENDAR
VERSION:2.0
PRODID:-//wp-events-plugin.com//7.2.3.1//EN
TZID:America/New_York
X-WR-TIMEZONE:America/New_York
BEGIN:VEVENT
UID:8905@goriverwalk.com
DTSTART;TZID=America/New_York:20191221T153000
DTEND;TZID=America/New_York:20191221T163000
DTSTAMP:20191203T205736Z
URL:https://www.goriverwalk.com/greater-fort-lauderdale-events/the-winter-
 wonderland-recital
SUMMARY:The Winter Wonderland Recital
DESCRIPTION:Featuring talented children
ATTACH;FMTTYPE=image/jpeg:https://www.goriverwalk.com/wp-content/uploads/2
 019/11/A-Christmas-RECITAL-X.jpg
CATEGORIES:Holiday,Music
LOCATION:Miramar Library\, 2050 Civic Center Place\, Miramar\, Florida\, 33
 025\, United States
X-APPLE-STRUCTURED-LOCATION;VALUE=URI;X-ADDRESS=2050 Civic Center Place\, M
 iramar\, Florida\, 33025\, United States;X-APPLE-RADIUS=100;X-TITLE=Mirama
 r Library:geo:0,0
END:VEVENT
BEGIN:VTIMEZONE
TZID:America/New_York
X-LIC-LOCATION:America/New_York
BEGIN:STANDARD
DTSTART:20191103T010000
TZOFFSETFROM:-0400
TZOFFSETTO:-0500
TZNAME:EST
END:STANDARD
END:VTIMEZONE
END:VCALENDAR