BEGIN:VCALENDAR
VERSION:2.0
PRODID:-//wp-events-plugin.com//7.2.3.1//EN
TZID:America/New_York
X-WR-TIMEZONE:America/New_York
BEGIN:VEVENT
UID:18226@goriverwalk.com
DTSTART;TZID=America/New_York:20240112T200000
DTEND;TZID=America/New_York:20240112T220000
DTSTAMP:20231129T211220Z
URL:https://www.goriverwalk.com/greater-fort-lauderdale-events/the-wall-an
 d-beyond
SUMMARY:The Wall and Beyond
DESCRIPTION:Revisit Pink Floyd live like never before!
ATTACH;FMTTYPE=image/jpeg:https://www.goriverwalk.com/wp-content/uploads/2
 023/11/The-Wall-and-Beyond-e1701292323721.jpg
CATEGORIES:Music
LOCATION:Casino Dania Beach\, 301 East Dania Beach Blvd\, Dania Beach\, FL\
 , 33004\, United States
X-APPLE-STRUCTURED-LOCATION;VALUE=URI;X-ADDRESS=301 East Dania Beach Blvd\,
  Dania Beach\, FL\, 33004\, United States;X-APPLE-RADIUS=100;X-TITLE=Casin
 o Dania Beach:geo:0,0
END:VEVENT
BEGIN:VTIMEZONE
TZID:America/New_York
X-LIC-LOCATION:America/New_York
BEGIN:STANDARD
DTSTART:20231105T010000
TZOFFSETFROM:-0400
TZOFFSETTO:-0500
TZNAME:EST
END:STANDARD
END:VTIMEZONE
END:VCALENDAR