BEGIN:VCALENDAR
VERSION:2.0
PRODID:-//wp-events-plugin.com//7.2.3.1//EN
TZID:America/New_York
X-WR-TIMEZONE:America/New_York
BEGIN:VEVENT
UID:6594@goriverwalk.com
DTSTART;TZID=America/New_York:20190108T190000
DTEND;TZID=America/New_York:20190108T220000
DTSTAMP:20181217T202914Z
URL:https://www.goriverwalk.com/greater-fort-lauderdale-events/the-traveli
 ng-plate-dinner-at-fort-lauderdale-country-club
SUMMARY:The Traveling Plate Dinner at Fort Lauderdale Country Club
DESCRIPTION:Pop-up dinner series
ATTACH;FMTTYPE=image/jpeg:https://www.goriverwalk.com/wp-content/uploads/2
 017/11/Default-calendar.jpg
CATEGORIES:Community,Food
LOCATION:Fort Lauderdale Country Club\, 415 E Country Club Circle\, Fort La
 uderdale\, Florida\, 33317\, United States
GEO:26.115061;-80.207878
X-APPLE-STRUCTURED-LOCATION;VALUE=URI;X-ADDRESS=415 E Country Club Circle\,
  Fort Lauderdale\, Florida\, 33317\, United States;X-APPLE-RADIUS=100;X-TI
 TLE=Fort Lauderdale Country Club:geo:26.115061,-80.207878
END:VEVENT
BEGIN:VTIMEZONE
TZID:America/New_York
X-LIC-LOCATION:America/New_York
BEGIN:STANDARD
DTSTART:20181104T010000
TZOFFSETFROM:-0400
TZOFFSETTO:-0500
TZNAME:EST
END:STANDARD
END:VTIMEZONE
END:VCALENDAR