BEGIN:VCALENDAR
VERSION:2.0
PRODID:-//wp-events-plugin.com//7.2.3.1//EN
TZID:America/New_York
X-WR-TIMEZONE:America/New_York
BEGIN:VEVENT
UID:1185@goriverwalk.com
DTSTART;TZID=America/New_York:20151228T200000
DTEND;TZID=America/New_York:20151228T220000
DTSTAMP:20151130T201046Z
URL:https://www.goriverwalk.com/greater-fort-lauderdale-events/the-ten-ten
 ors
SUMMARY:The Ten Tenors
DESCRIPTION:The Ten Tenors are one of Australia’s greatest entertainment 
 success stories\, with more than 90 million people worldwide witnessing th
 eir unmistakable charm\, camaraderie and vocal power.
ATTACH;FMTTYPE=image/jpeg:https://www.goriverwalk.com/wp-content/uploads/2
 015/11/The-Ten-Tenors.jpg
CATEGORIES:Music
LOCATION:Parker Playhouse\, 707 NE 8th Street\, Fort Lauderdale\, FL\, 3330
 4\, United States
GEO:26.134246;-80.13617199999999
X-APPLE-STRUCTURED-LOCATION;VALUE=URI;X-ADDRESS=707 NE 8th Street\, Fort La
 uderdale\, FL\, 33304\, United States;X-APPLE-RADIUS=100;X-TITLE=Parker Pl
 ayhouse:geo:26.134246,-80.13617199999999
END:VEVENT
BEGIN:VTIMEZONE
TZID:America/New_York
X-LIC-LOCATION:America/New_York
BEGIN:STANDARD
DTSTART:20151101T010000
TZOFFSETFROM:-0400
TZOFFSETTO:-0500
TZNAME:EST
END:STANDARD
END:VTIMEZONE
END:VCALENDAR