BEGIN:VCALENDAR
VERSION:2.0
PRODID:-//wp-events-plugin.com//7.2.3.1//EN
TZID:America/New_York
X-WR-TIMEZONE:America/New_York
BEGIN:VEVENT
UID:10006@goriverwalk.com
DTSTART;TZID=America/New_York:20200809T200000
DTEND;TZID=America/New_York:20200809T213000
DTSTAMP:20200729T163613Z
URL:https://www.goriverwalk.com/greater-fort-lauderdale-events/the-seth-co
 ncert-series-featuring-liz-callaway
SUMMARY:The Seth Concert Series Featuring Liz Callaway
DESCRIPTION:Emmy Award-winning actress
ATTACH;FMTTYPE=image/jpeg:https://www.goriverwalk.com/wp-content/uploads/2
 020/07/Liz-Callaway.jpg
CATEGORIES:Art,Music
END:VEVENT
BEGIN:VTIMEZONE
TZID:America/New_York
X-LIC-LOCATION:America/New_York
BEGIN:DAYLIGHT
DTSTART:20200308T030000
TZOFFSETFROM:-0500
TZOFFSETTO:-0400
TZNAME:EDT
END:DAYLIGHT
END:VTIMEZONE
END:VCALENDAR